BEGIN:VCALENDAR
VERSION:2.0
PRODID:spatie/icalendar-generator
DESCRIPTION:Events from Black Gold Volleyball
X-WR-CALDESC:Events from Black Gold Volleyball
REFRESH-INTERVAL;VALUE=DURATION:PT1440M
X-PUBLISHED-TTL:PT1440M
BEGIN:VTIMEZONE
TZID:Etc/GMT+7
BEGIN:STANDARD
DTSTART:20250724T180000Z
TZOFFSETFROM:-0700
TZOFFSETTO:-0700
END:STANDARD
END:VTIMEZONE
BEGIN:VTIMEZONE
TZID:UTC
BEGIN:STANDARD
DTSTART:20250724T112936Z
TZOFFSETFROM:+0000
TZOFFSETTO:+0000
END:STANDARD
END:VTIMEZONE
BEGIN:VEVENT
UID:680-48
DTSTAMP:20260420T112936Z
SUMMARY:13U Black
LOCATION:LRC - Court \\'C1\\' 4330 Black Gold Dr  Leduc Alberta T9E3C3
ORGANIZER;CN=nqs9ejs8:MAILTO:martyb@nuequest.com
RRULE:FREQ=WEEKLY;UNTIL=20260427T000000Z
DTSTART;TZID=Etc/GMT+7:20260420T180000
DTEND;TZID=Etc/GMT+7:20260420T193000
X-ALT-DESC;FMTTYPE=TEXT/HTML:Court 'C1'
CATEGORIES:Practice
URL;VALUE=URI:https://blackgoldvolleyball.com/mc-events/13u-black-2/?mc_id=
 680
METHOD:PUBLISH
END:VEVENT
END:VCALENDAR